Package: svaNUMT Version: 1.8.0 Command: /Library/Frameworks/R.framework/Resources/bin/R CMD INSTALL svaNUMT StartedAt: 2024-04-15 15:50:36 -0400 (Mon, 15 Apr 2024) EndedAt: 2024-04-15 15:51:59 -0400 (Mon, 15 Apr 2024) EllapsedTime: 83.4 seconds RetCode: 0 Status: OK