Package: svaNUMT Version: 1.8.0 Command: chmod a+r svaNUMT -R && F:\biocbuild\bbs-3.18-bioc\R\bin\R.exe CMD build --keep-empty-dirs --no-resave-data svaNUMT StartedAt: 2024-04-15 21:34:58 -0400 (Mon, 15 Apr 2024) EndedAt: 2024-04-15 21:36:19 -0400 (Mon, 15 Apr 2024) EllapsedTime: 80.6 seconds RetCode: 0 Status: OK PackageFile: svaNUMT_1.8.0.tar.gz PackageFileSize: 700.6 KiB