Package: switchde Version: 1.28.0 Command: rm -rf switchde.buildbin-libdir && mkdir switchde.buildbin-libdir && F:\biocbuild\bbs-3.18-bioc\R\bin\R.exe CMD INSTALL --build --library=switchde.buildbin-libdir switchde_1.28.0.tar.gz StartedAt: 2024-04-16 07:46:45 -0400 (Tue, 16 Apr 2024) EndedAt: 2024-04-16 07:47:19 -0400 (Tue, 16 Apr 2024) EllapsedTime: 34.2 seconds RetCode: 0 Status: OK PackageFile: switchde_1.28.0.zip PackageFileSize: 534.8 KiB