Package: synapsis Version: 1.8.0 Command: /home/biocbuild/R/R-4.3.1/bin/R CMD build --keep-empty-dirs --no-resave-data synapsis StartedAt: 2023-11-02 06:54:52 -0000 (Thu, 02 Nov 2023) EndedAt: 2023-11-02 06:55:29 -0000 (Thu, 02 Nov 2023) EllapsedTime: 37.1 seconds RetCode: 0 Status: OK PackageFile: synapsis_1.8.0.tar.gz PackageFileSize: 3.257 MiB