Package: synapter Version: 2.26.0 Command: /Library/Frameworks/R.framework/Resources/bin/R CMD check --install=check:synapter.install-out.txt --library=/Library/Frameworks/R.framework/Resources/library --no-vignettes --timings synapter_2.26.0.tar.gz StartedAt: 2024-03-03 23:51:07 -0500 (Sun, 03 Mar 2024) EndedAt: 2024-03-03 23:55:34 -0500 (Sun, 03 Mar 2024) EllapsedTime: 267.3 seconds RetCode: 0 Status: OK CheckDir: synapter.Rcheck Warnings: 0