Package: synapter Version: 2.26.0 Command: /Library/Frameworks/R.framework/Resources/bin/R CMD INSTALL synapter StartedAt: 2024-03-03 15:35:07 -0500 (Sun, 03 Mar 2024) EndedAt: 2024-03-03 15:36:00 -0500 (Sun, 03 Mar 2024) EllapsedTime: 52.9 seconds RetCode: 0 Status: OK