Package: synapter Version: 2.26.0 Command: rm -rf synapter.buildbin-libdir && mkdir synapter.buildbin-libdir && /Users/biocbuild/BBS/utils/build-universal.sh synapter_2.26.0.tar.gz /Library/Frameworks/R.framework/Resources/bin/R synapter.buildbin-libdir StartedAt: 2024-04-16 12:50:50 -0400 (Tue, 16 Apr 2024) EndedAt: 2024-04-16 12:52:15 -0400 (Tue, 16 Apr 2024) EllapsedTime: 85.0 seconds RetCode: 0 Status: OK PackageFile: synapter_2.26.0.tgz PackageFileSize: 5.352 MiB