Package: synapter Version: 2.26.0 Command: /Library/Frameworks/R.framework/Resources/bin/R CMD build --keep-empty-dirs --no-resave-data synapter StartedAt: 2024-04-15 22:27:47 -0400 (Mon, 15 Apr 2024) EndedAt: 2024-04-15 22:41:22 -0400 (Mon, 15 Apr 2024) EllapsedTime: 814.7 seconds RetCode: 0 Status: OK PackageFile: synapter_2.26.0.tar.gz PackageFileSize: 4.634 MiB