Package: synapter Version: 2.26.0 Command: /Library/Frameworks/R.framework/Resources/bin/R CMD INSTALL synapter StartedAt: 2024-04-15 16:15:52 -0400 (Mon, 15 Apr 2024) EndedAt: 2024-04-15 16:17:15 -0400 (Mon, 15 Apr 2024) EllapsedTime: 83.1 seconds RetCode: 0 Status: OK