Package: systemPipeShiny Version: 1.12.0 Command: rm -rf systemPipeShiny.buildbin-libdir && mkdir systemPipeShiny.buildbin-libdir && /Users/biocbuild/BBS/utils/build-universal.sh systemPipeShiny_1.12.0.tar.gz /Library/Frameworks/R.framework/Resources/bin/R systemPipeShiny.buildbin-libdir StartedAt: 2024-03-04 01:08:03 -0500 (Mon, 04 Mar 2024) EndedAt: 2024-03-04 01:08:27 -0500 (Mon, 04 Mar 2024) EllapsedTime: 24.8 seconds RetCode: 0 Status: OK PackageFile: systemPipeShiny_1.12.0.tgz PackageFileSize: 3.578 MiB