Package: systemPipeShiny Version: 1.12.0 Command: /Library/Frameworks/R.framework/Resources/bin/R CMD INSTALL systemPipeShiny StartedAt: 2024-03-03 15:26:07 -0500 (Sun, 03 Mar 2024) EndedAt: 2024-03-03 15:26:29 -0500 (Sun, 03 Mar 2024) EllapsedTime: 21.4 seconds RetCode: 0 Status: OK