Package: systemPipeShiny Version: 1.12.0 Command: rm -rf systemPipeShiny.buildbin-libdir && mkdir systemPipeShiny.buildbin-libdir && /Users/biocbuild/BBS/utils/build-universal.sh systemPipeShiny_1.12.0.tar.gz /Library/Frameworks/R.framework/Resources/bin/R systemPipeShiny.buildbin-libdir StartedAt: 2024-04-16 12:51:08 -0400 (Tue, 16 Apr 2024) EndedAt: 2024-04-16 12:51:43 -0400 (Tue, 16 Apr 2024) EllapsedTime: 35.0 seconds RetCode: 0 Status: OK PackageFile: systemPipeShiny_1.12.0.tgz PackageFileSize: 3.578 MiB