Package: systemPipeShiny Version: 1.12.0 Command: F:\biocbuild\bbs-3.18-bioc\R\bin\R.exe CMD check --no-multiarch --install=check:systemPipeShiny.install-out.txt --library=F:\biocbuild\bbs-3.18-bioc\R\library --no-vignettes --timings systemPipeShiny_1.12.0.tar.gz StartedAt: 2024-04-16 05:43:33 -0400 (Tue, 16 Apr 2024) EndedAt: 2024-04-16 05:45:35 -0400 (Tue, 16 Apr 2024) EllapsedTime: 122.2 seconds RetCode: 0 Status: OK CheckDir: systemPipeShiny.Rcheck Warnings: 0