Package: systemPipeTools Version: 1.10.0 Command: rm -rf systemPipeTools.buildbin-libdir && mkdir systemPipeTools.buildbin-libdir && /Users/biocbuild/BBS/utils/build-universal.sh systemPipeTools_1.10.0.tar.gz /Library/Frameworks/R.framework/Resources/bin/R systemPipeTools.buildbin-libdir StartedAt: 2024-03-04 01:08:04 -0500 (Mon, 04 Mar 2024) EndedAt: 2024-03-04 01:08:44 -0500 (Mon, 04 Mar 2024) EllapsedTime: 39.8 seconds RetCode: 0 Status: OK PackageFile: systemPipeTools_1.10.0.tgz PackageFileSize: 985.7 KiB