Package: tRNA Version: 1.20.1 Command: rm -rf tRNA.buildbin-libdir && mkdir tRNA.buildbin-libdir && /Users/biocbuild/BBS/utils/build-universal.sh tRNA_1.20.1.tar.gz /Library/Frameworks/R.framework/Resources/bin/R tRNA.buildbin-libdir StartedAt: 2024-03-04 01:09:38 -0500 (Mon, 04 Mar 2024) EndedAt: 2024-03-04 01:10:06 -0500 (Mon, 04 Mar 2024) EllapsedTime: 27.8 seconds RetCode: 0 Status: OK PackageFile: tRNA_1.20.1.tgz PackageFileSize: 1.397 MiB