Package: tRNA Version: 1.20.1 Command: /home/biocbuild/bbs-3.18-bioc/R/bin/R CMD build --keep-empty-dirs --no-resave-data tRNA StartedAt: 2024-04-15 19:39:32 -0400 (Mon, 15 Apr 2024) EndedAt: 2024-04-15 19:42:03 -0400 (Mon, 15 Apr 2024) EllapsedTime: 151.4 seconds RetCode: 0 Status: OK PackageFile: tRNA_1.20.1.tar.gz PackageFileSize: 1.205 MiB