Package: tRNA Version: 1.20.1 Command: rm -rf tRNA.buildbin-libdir && mkdir tRNA.buildbin-libdir && F:\biocbuild\bbs-3.18-bioc\R\bin\R.exe CMD INSTALL --build --library=tRNA.buildbin-libdir tRNA_1.20.1.tar.gz StartedAt: 2024-04-16 07:49:29 -0400 (Tue, 16 Apr 2024) EndedAt: 2024-04-16 07:50:08 -0400 (Tue, 16 Apr 2024) EllapsedTime: 38.8 seconds RetCode: 0 Status: OK PackageFile: tRNA_1.20.1.zip PackageFileSize: 778.3 KiB