Package: timecourse Version: 1.74.0 Command: chmod a+r timecourse -R && F:\biocbuild\bbs-3.18-bioc\R\bin\R.exe CMD build --keep-empty-dirs --no-resave-data timecourse StartedAt: 2024-04-15 21:44:19 -0400 (Mon, 15 Apr 2024) EndedAt: 2024-04-15 21:44:39 -0400 (Mon, 15 Apr 2024) EllapsedTime: 19.9 seconds RetCode: 0 Status: OK PackageFile: timecourse_1.74.0.tar.gz PackageFileSize: 711.9 KiB