Package: timecourse Version: 1.74.0 Command: F:\biocbuild\bbs-3.18-bioc\R\bin\R.exe CMD INSTALL timecourse StartedAt: 2024-04-15 15:41:33 -0400 (Mon, 15 Apr 2024) EndedAt: 2024-04-15 15:41:55 -0400 (Mon, 15 Apr 2024) EllapsedTime: 22.1 seconds RetCode: 0 Status: OK