Package: timescape Version: 1.26.0 Maintainer: Maia Smith MaintainerEmail: maiaannesmith at gmail.com git_url: https://git.bioconductor.org/packages/timescape git_branch: RELEASE_3_18 git_last_commit: 4069584 git_last_commit_date: 2023-10-24 10:55:39 -0400 (Tue, 24 Oct 2023)