Package: timescape Version: 1.26.0 Command: rm -rf timescape.buildbin-libdir && mkdir timescape.buildbin-libdir && F:\biocbuild\bbs-3.18-bioc\R\bin\R.exe CMD INSTALL --build --library=timescape.buildbin-libdir timescape_1.26.0.tar.gz StartedAt: 2024-04-16 07:48:11 -0400 (Tue, 16 Apr 2024) EndedAt: 2024-04-16 07:48:15 -0400 (Tue, 16 Apr 2024) EllapsedTime: 4.7 seconds RetCode: 0 Status: OK PackageFile: timescape_1.26.0.zip PackageFileSize: 481.2 KiB