Package: tkWidgets Version: 1.80.0 Command: rm -rf tkWidgets.buildbin-libdir && mkdir tkWidgets.buildbin-libdir && /Users/biocbuild/BBS/utils/build-universal.sh tkWidgets_1.80.0.tar.gz /Library/Frameworks/R.framework/Resources/bin/R tkWidgets.buildbin-libdir StartedAt: 2024-03-04 01:08:51 -0500 (Mon, 04 Mar 2024) EndedAt: 2024-03-04 01:09:04 -0500 (Mon, 04 Mar 2024) EllapsedTime: 12.5 seconds RetCode: 0 Status: OK PackageFile: tkWidgets_1.80.0.tgz PackageFileSize: 653.4 KiB