Package: tomoda Version: 1.12.0 Command: rm -rf tomoda.buildbin-libdir && mkdir tomoda.buildbin-libdir && F:\biocbuild\bbs-3.18-bioc\R\bin\R.exe CMD INSTALL --build --library=tomoda.buildbin-libdir tomoda_1.12.0.tar.gz StartedAt: 2024-04-16 07:48:28 -0400 (Tue, 16 Apr 2024) EndedAt: 2024-04-16 07:49:02 -0400 (Tue, 16 Apr 2024) EllapsedTime: 34.0 seconds RetCode: 0 Status: OK PackageFile: tomoda_1.12.0.zip PackageFileSize: 2.02 MiB