Package: tomoda
Version: 1.12.0
Command: F:\biocbuild\bbs-3.18-bioc\R\bin\R.exe CMD check --no-multiarch --install=check:tomoda.install-out.txt --library=F:\biocbuild\bbs-3.18-bioc\R\library --no-vignettes --timings tomoda_1.12.0.tar.gz
StartedAt: 2024-04-16 05:53:27 -0400 (Tue, 16 Apr 2024)
EndedAt: 2024-04-16 05:59:52 -0400 (Tue, 16 Apr 2024)
EllapsedTime: 385.1 seconds
RetCode: 0
Status: OK
CheckDir: tomoda.Rcheck
Warnings: 0