Package: transcriptR Version: 1.30.0 Command: /Library/Frameworks/R.framework/Resources/bin/R CMD INSTALL transcriptR StartedAt: 2024-03-03 15:36:30 -0500 (Sun, 03 Mar 2024) EndedAt: 2024-03-03 15:37:37 -0500 (Sun, 03 Mar 2024) EllapsedTime: 67.1 seconds RetCode: 0 Status: OK