Package: traviz Version: 1.8.0 Command: rm -rf traviz.buildbin-libdir && mkdir traviz.buildbin-libdir && /Users/biocbuild/BBS/utils/build-universal.sh traviz_1.8.0.tar.gz /Library/Frameworks/R.framework/Resources/bin/R traviz.buildbin-libdir StartedAt: 2024-03-04 01:09:24 -0500 (Mon, 04 Mar 2024) EndedAt: 2024-03-04 01:10:07 -0500 (Mon, 04 Mar 2024) EllapsedTime: 43.2 seconds RetCode: 0 Status: OK PackageFile: traviz_1.8.0.tgz PackageFileSize: 3.169 MiB