Package: traviz Version: 1.8.0 Command: /Library/Frameworks/R.framework/Resources/bin/R CMD INSTALL traviz StartedAt: 2024-03-03 15:23:35 -0500 (Sun, 03 Mar 2024) EndedAt: 2024-03-03 15:24:13 -0500 (Sun, 03 Mar 2024) EllapsedTime: 38.2 seconds RetCode: 0 Status: OK