Package: traviz Version: 1.8.0 Command: /Library/Frameworks/R.framework/Resources/bin/R CMD INSTALL traviz StartedAt: 2024-04-15 15:42:19 -0400 (Mon, 15 Apr 2024) EndedAt: 2024-04-15 15:43:12 -0400 (Mon, 15 Apr 2024) EllapsedTime: 52.7 seconds RetCode: 0 Status: OK