Package: traviz Version: 1.8.0 Command: rm -rf traviz.buildbin-libdir && mkdir traviz.buildbin-libdir && F:\biocbuild\bbs-3.18-bioc\R\bin\R.exe CMD INSTALL --build --library=traviz.buildbin-libdir traviz_1.8.0.tar.gz StartedAt: 2024-04-16 07:49:05 -0400 (Tue, 16 Apr 2024) EndedAt: 2024-04-16 07:49:40 -0400 (Tue, 16 Apr 2024) EllapsedTime: 34.4 seconds RetCode: 0 Status: OK PackageFile: traviz_1.8.0.zip PackageFileSize: 2.002 MiB