Package: trena Version: 1.24.0 Command: /Library/Frameworks/R.framework/Resources/bin/R CMD build --keep-empty-dirs --no-resave-data trena StartedAt: 2024-03-03 18:38:13 -0500 (Sun, 03 Mar 2024) EndedAt: 2024-03-03 18:39:53 -0500 (Sun, 03 Mar 2024) EllapsedTime: 100.2 seconds RetCode: 0 Status: OK PackageFile: trena_1.24.0.tar.gz PackageFileSize: 6.859 MiB