Package: trena Version: 1.24.0 Command: chmod a+r trena -R && F:\biocbuild\bbs-3.18-bioc\R\bin\R.exe CMD build --keep-empty-dirs --no-resave-data trena StartedAt: 2024-04-15 21:49:13 -0400 (Mon, 15 Apr 2024) EndedAt: 2024-04-15 21:51:03 -0400 (Mon, 15 Apr 2024) EllapsedTime: 110.4 seconds RetCode: 0 Status: OK PackageFile: trena_1.24.0.tar.gz PackageFileSize: 6.845 MiB