Package: tricycle
Version: 1.10.0
Command: /home/biocbuild/R/R-4.3.1/bin/R CMD check --install=check:tricycle.install-out.txt --library=/home/biocbuild/R/R-4.3.1/site-library --no-vignettes --timings tricycle_1.10.0.tar.gz
StartedAt: 2023-11-02 15:03:40 -0000 (Thu, 02 Nov 2023)
EndedAt: 2023-11-02 15:09:16 -0000 (Thu, 02 Nov 2023)
EllapsedTime: 335.6 seconds
RetCode: 0
Status: OK
CheckDir: tricycle.Rcheck
Warnings: 0