Package: tricycle Version: 1.10.0 Command: /Library/Frameworks/R.framework/Resources/bin/R CMD INSTALL tricycle StartedAt: 2024-03-03 15:39:45 -0500 (Sun, 03 Mar 2024) EndedAt: 2024-03-03 15:40:33 -0500 (Sun, 03 Mar 2024) EllapsedTime: 47.5 seconds RetCode: 0 Status: OK