Package: tricycle Version: 1.10.0 Command: /Library/Frameworks/R.framework/Resources/bin/R CMD check --install=check:tricycle.install-out.txt --library=/Library/Frameworks/R.framework/Resources/library --no-vignettes --timings tricycle_1.10.0.tar.gz StartedAt: 2024-04-16 10:08:23 -0400 (Tue, 16 Apr 2024) EndedAt: 2024-04-16 10:17:59 -0400 (Tue, 16 Apr 2024) EllapsedTime: 575.9 seconds RetCode: 0 Status: OK CheckDir: tricycle.Rcheck Warnings: 0