Package: tricycle Version: 1.10.0 Command: chmod a+r tricycle -R && F:\biocbuild\bbs-3.18-bioc\R\bin\R.exe CMD build --keep-empty-dirs --no-resave-data tricycle StartedAt: 2024-04-15 21:49:22 -0400 (Mon, 15 Apr 2024) EndedAt: 2024-04-15 21:50:38 -0400 (Mon, 15 Apr 2024) EllapsedTime: 75.9 seconds RetCode: 0 Status: OK PackageFile: tricycle_1.10.0.tar.gz PackageFileSize: 3.646 MiB