Package: trigger Version: 1.48.0 Command: /home/biocbuild/R/R-4.3.1/bin/R CMD build --keep-empty-dirs --no-resave-data trigger StartedAt: 2023-11-02 07:13:08 -0000 (Thu, 02 Nov 2023) EndedAt: 2023-11-02 07:16:39 -0000 (Thu, 02 Nov 2023) EllapsedTime: 210.3 seconds RetCode: 0 Status: OK PackageFile: trigger_1.48.0.tar.gz PackageFileSize: 1.829 MiB