Package: trigger Version: 1.48.0 Command: rm -rf trigger.buildbin-libdir && mkdir trigger.buildbin-libdir && /Users/biocbuild/BBS/utils/build-universal.sh trigger_1.48.0.tar.gz /Library/Frameworks/R.framework/Resources/bin/R trigger.buildbin-libdir StartedAt: 2024-03-04 01:09:35 -0500 (Mon, 04 Mar 2024) EndedAt: 2024-03-04 01:10:18 -0500 (Mon, 04 Mar 2024) EllapsedTime: 43.1 seconds RetCode: 0 Status: OK PackageFile: trigger_1.48.0.tgz PackageFileSize: 2.211 MiB