Package: tweeDEseq Version: 1.48.0 Command: /home/biocbuild/R/R-4.3.1/bin/R CMD build --keep-empty-dirs --no-resave-data tweeDEseq StartedAt: 2023-11-02 07:16:53 -0000 (Thu, 02 Nov 2023) EndedAt: 2023-11-02 07:30:52 -0000 (Thu, 02 Nov 2023) EllapsedTime: 839.7 seconds RetCode: 0 Status: OK PackageFile: tweeDEseq_1.48.0.tar.gz PackageFileSize: 227 KiB