Package: tweeDEseq Version: 1.48.0 Command: /home/biocbuild/R/R-4.3.1/bin/R CMD check --install=check:tweeDEseq.install-out.txt --library=/home/biocbuild/R/R-4.3.1/site-library --no-vignettes --timings tweeDEseq_1.48.0.tar.gz StartedAt: 2023-11-02 15:07:05 -0000 (Thu, 02 Nov 2023) EndedAt: 2023-11-02 15:07:46 -0000 (Thu, 02 Nov 2023) EllapsedTime: 41.1 seconds RetCode: 0 Status: WARNINGS CheckDir: tweeDEseq.Rcheck Warnings: 1