Package: tweeDEseq
Version: 1.48.0
Command: /Library/Frameworks/R.framework/Resources/bin/R CMD build --keep-empty-dirs --no-resave-data tweeDEseq
StartedAt: 2024-04-15 22:40:56 -0400 (Mon, 15 Apr 2024)
EndedAt: 2024-04-15 22:54:46 -0400 (Mon, 15 Apr 2024)
EllapsedTime: 830.9 seconds
RetCode: 0
Status: OK
PackageFile: tweeDEseq_1.48.0.tar.gz
PackageFileSize: 233.6 <A href="http://en.wikipedia.org/wiki/KiB" target="_blank">KiB</A>