Package: unifiedWMWqPCR Version: 1.38.0 Command: /home/biocbuild/R/R-4.3.1/bin/R CMD check --install=check:unifiedWMWqPCR.install-out.txt --library=/home/biocbuild/R/R-4.3.1/site-library --no-vignettes --timings unifiedWMWqPCR_1.38.0.tar.gz StartedAt: 2023-11-02 15:09:16 -0000 (Thu, 02 Nov 2023) EndedAt: 2023-11-02 15:10:04 -0000 (Thu, 02 Nov 2023) EllapsedTime: 48.2 seconds RetCode: 0 Status: WARNINGS CheckDir: unifiedWMWqPCR.Rcheck Warnings: 1