Package: unifiedWMWqPCR Version: 1.38.0 Command: /Library/Frameworks/R.framework/Resources/bin/R CMD build --keep-empty-dirs --no-resave-data unifiedWMWqPCR StartedAt: 2024-03-03 18:39:53 -0500 (Sun, 03 Mar 2024) EndedAt: 2024-03-03 18:40:12 -0500 (Sun, 03 Mar 2024) EllapsedTime: 19.1 seconds RetCode: 0 Status: OK PackageFile: unifiedWMWqPCR_1.38.0.tar.gz PackageFileSize: 501.9 KiB