Package: unifiedWMWqPCR Version: 1.38.0 Command: /Library/Frameworks/R.framework/Resources/bin/R CMD check --install=check:unifiedWMWqPCR.install-out.txt --library=/Library/Frameworks/R.framework/Resources/library --no-vignettes --timings unifiedWMWqPCR_1.38.0.tar.gz StartedAt: 2024-03-04 00:06:37 -0500 (Mon, 04 Mar 2024) EndedAt: 2024-03-04 00:07:33 -0500 (Mon, 04 Mar 2024) EllapsedTime: 55.5 seconds RetCode: 0 Status: WARNINGS CheckDir: unifiedWMWqPCR.Rcheck Warnings: 1