Package: unifiedWMWqPCR Version: 1.38.0 Command: /Library/Frameworks/R.framework/Resources/bin/R CMD INSTALL unifiedWMWqPCR StartedAt: 2024-03-03 15:07:46 -0500 (Sun, 03 Mar 2024) EndedAt: 2024-03-03 15:08:15 -0500 (Sun, 03 Mar 2024) EllapsedTime: 28.7 seconds RetCode: 0 Status: OK