Package: unifiedWMWqPCR Version: 1.38.0 Command: /home/biocbuild/bbs-3.18-bioc/R/bin/R CMD build --keep-empty-dirs --no-resave-data unifiedWMWqPCR StartedAt: 2024-04-15 19:41:44 -0400 (Mon, 15 Apr 2024) EndedAt: 2024-04-15 19:41:54 -0400 (Mon, 15 Apr 2024) EllapsedTime: 10.3 seconds RetCode: 0 Status: OK PackageFile: unifiedWMWqPCR_1.38.0.tar.gz PackageFileSize: 501.9 KiB