Package: variancePartition Version: 1.32.1 Command: /home/biocbuild/R/R-4.3.1/bin/R CMD INSTALL variancePartition StartedAt: 2023-11-01 20:42:01 -0000 (Wed, 01 Nov 2023) EndedAt: 2023-11-01 20:42:29 -0000 (Wed, 01 Nov 2023) EllapsedTime: 27.4 seconds RetCode: 0 Status: OK