Package: vbmp Version: 1.70.0 Command: rm -rf vbmp.buildbin-libdir && mkdir vbmp.buildbin-libdir && /Users/biocbuild/BBS/utils/build-universal.sh vbmp_1.70.0.tar.gz /Library/Frameworks/R.framework/Resources/bin/R vbmp.buildbin-libdir StartedAt: 2024-03-04 01:10:14 -0500 (Mon, 04 Mar 2024) EndedAt: 2024-03-04 01:10:20 -0500 (Mon, 04 Mar 2024) EllapsedTime: 5.8 seconds RetCode: 0 Status: OK PackageFile: vbmp_1.70.0.tgz PackageFileSize: 1.802 MiB