Package: vbmp Version: 1.70.0 Command: /Library/Frameworks/R.framework/Resources/bin/R CMD check --install=check:vbmp.install-out.txt --library=/Library/Frameworks/R.framework/Resources/library --no-vignettes --timings vbmp_1.70.0.tar.gz StartedAt: 2024-03-04 00:08:31 -0500 (Mon, 04 Mar 2024) EndedAt: 2024-03-04 00:09:01 -0500 (Mon, 04 Mar 2024) EllapsedTime: 29.6 seconds RetCode: 0 Status: OK CheckDir: vbmp.Rcheck Warnings: 0