Package: vidger Version: 1.22.0 Command: /Library/Frameworks/R.framework/Resources/bin/R CMD build --keep-empty-dirs --no-resave-data vidger StartedAt: 2024-04-15 22:46:13 -0400 (Mon, 15 Apr 2024) EndedAt: 2024-04-15 22:49:54 -0400 (Mon, 15 Apr 2024) EllapsedTime: 221.6 seconds RetCode: 0 Status: OK PackageFile: vidger_1.22.0.tar.gz PackageFileSize: 8.695 MiB