Package: webbioc Version: 1.74.0 Command: /home/biocbuild/R/R-4.3.1/bin/R CMD check --install=check:webbioc.install-out.txt --library=/home/biocbuild/R/R-4.3.1/site-library --no-vignettes --timings webbioc_1.74.0.tar.gz StartedAt: 2023-11-02 15:11:33 -0000 (Thu, 02 Nov 2023) EndedAt: 2023-11-02 15:13:30 -0000 (Thu, 02 Nov 2023) EllapsedTime: 116.2 seconds RetCode: 0 Status: OK CheckDir: webbioc.Rcheck Warnings: 0